BEGIN:VCALENDAR
VERSION:2.0
PRODID:-//Lemmikki- ja showkesyrotat ry - ECPv6.15.20//NONSGML v1.0//EN
CALSCALE:GREGORIAN
METHOD:PUBLISH
X-WR-CALNAME:Lemmikki- ja showkesyrotat ry
X-ORIGINAL-URL:https://www.kesyrotat.fi
X-WR-CALDESC:Tapahtumat Lemmikki- ja showkesyrotat ry
REFRESH-INTERVAL;VALUE=DURATION:PT1H
X-Robots-Tag:noindex
X-PUBLISHED-TTL:PT1H
BEGIN:VTIMEZONE
TZID:Europe/Helsinki
BEGIN:DAYLIGHT
TZOFFSETFROM:+0200
TZOFFSETTO:+0300
TZNAME:EEST
DTSTART:20250330T010000
END:DAYLIGHT
BEGIN:STANDARD
TZOFFSETFROM:+0300
TZOFFSETTO:+0200
TZNAME:EET
DTSTART:20251026T010000
END:STANDARD
BEGIN:DAYLIGHT
TZOFFSETFROM:+0200
TZOFFSETTO:+0300
TZNAME:EEST
DTSTART:20260329T010000
END:DAYLIGHT
BEGIN:STANDARD
TZOFFSETFROM:+0300
TZOFFSETTO:+0200
TZNAME:EET
DTSTART:20261025T010000
END:STANDARD
BEGIN:DAYLIGHT
TZOFFSETFROM:+0200
TZOFFSETTO:+0300
TZNAME:EEST
DTSTART:20270328T010000
END:DAYLIGHT
BEGIN:STANDARD
TZOFFSETFROM:+0300
TZOFFSETTO:+0200
TZNAME:EET
DTSTART:20271031T010000
END:STANDARD
END:VTIMEZONE
BEGIN:VEVENT
DTSTART;TZID=Europe/Helsinki:20260502T090000
DTEND;TZID=Europe/Helsinki:20260502T170000
DTSTAMP:20260424T152157
CREATED:20260113T071510Z
LAST-MODIFIED:20260421T162913Z
UID:4349-1777712400-1777741200@www.kesyrotat.fi
SUMMARY:Juhlanäyttely Naantali 2.5.
DESCRIPTION:  \nTUOMARIT: \nNäyttelyssä järjestetään tuplaluokat ulkomuotoluokissa (sk & rex) sekä agilityssa. \nNäyttely 1: Johanna Scott Ivarsson (SWE) (varalla kotimainen tuomari) \nNäyttely 2: Sari kallio (varalla kotimainen tuomari) \nLemmikkiluokat: Mia Florentin (SWE) (varalla kotimainen tuomari) \nAgility kilpailu 1: Saija Forsström (varalla kotimainen tuomari) \nAgility kilpailu 2: Tellu Sonne (varalla kotimainen tuomari) \n 
URL:https://www.kesyrotat.fi/tapahtuma/juhlanayttely-naantali-2-5/
LOCATION:Kuparivuoren urheilutalo\, Kuparivuorentie 1\, Naantali\, 21100
ATTACH;FMTTYPE=image/jpeg:https://www.kesyrotat.fi/wp-content/uploads/2026/03/0205-mainos-1-scaled.jpg
END:VEVENT
BEGIN:VEVENT
DTSTART;TZID=Europe/Helsinki:20260613T100000
DTEND;TZID=Europe/Helsinki:20260613T170000
DTSTAMP:20260424T152157
CREATED:20260208T100638Z
LAST-MODIFIED:20260424T105731Z
UID:4357-1781344800-1781370000@www.kesyrotat.fi
SUMMARY:Kesänäyttely 13.6.2026 Jyväskylä
DESCRIPTION:Ulkomuotoluokat (sk & rex): Piia Niemelä (varalla kotimainen tuomari) \nNäyttelyssä järjestetään tuplaluokat lemmikkiluokissa \nNäyttely 1: Susanna Jousa (varalla kotimainen tuomari) \nNäyttely 2: Susanna Vuorsalo (varalla kotimainen tuomari) \nAgility: Piia Niemelä (varalla kotimainen tuomari) \n 
URL:https://www.kesyrotat.fi/tapahtuma/kesanayttely-13-6-2026-jyvaskyla/
ATTACH;FMTTYPE=image/jpeg:https://www.kesyrotat.fi/wp-content/uploads/2026/04/13.6.-mainos.jpeg
END:VEVENT
BEGIN:VEVENT
DTSTART;VALUE=DATE:20260718
DTEND;VALUE=DATE:20260719
DTSTAMP:20260424T152157
CREATED:20260304T172740Z
LAST-MODIFIED:20260304T172740Z
UID:4388-1784332800-1784419199@www.kesyrotat.fi
SUMMARY:Kasvattajapäivät 18.7.2026
DESCRIPTION:Tarkemmat tiedot ilmoitetaan LSK ry:n kasvattajille
URL:https://www.kesyrotat.fi/tapahtuma/kasvattajapaivat-18-7-2026/
END:VEVENT
BEGIN:VEVENT
DTSTART;TZID=Europe/Helsinki:20260801T090000
DTEND;TZID=Europe/Helsinki:20260801T170000
DTSTAMP:20260424T152157
CREATED:20260208T100744Z
LAST-MODIFIED:20260421T163029Z
UID:4361-1785574800-1785603600@www.kesyrotat.fi
SUMMARY:Elonäyttely 1.8.2026 Turku
DESCRIPTION:Ulkomuotoluokat (rex & sk): Elina Ilves\, Lemmikkiluokat: Anne Hartikainen (varalla kotimaiset tuomarit) \nEi avoin yleisölle.
URL:https://www.kesyrotat.fi/tapahtuma/elonayttely-1-8-2026-turku/
END:VEVENT
BEGIN:VEVENT
DTSTART;TZID=Europe/Helsinki:20260801T090000
DTEND;TZID=Europe/Helsinki:20260801T170000
DTSTAMP:20260424T152157
CREATED:20260208T100811Z
LAST-MODIFIED:20260421T163050Z
UID:4363-1785574800-1785603600@www.kesyrotat.fi
SUMMARY:Kesäpäivät 1.8.2026 Turku
DESCRIPTION:LSK ry järjestää elonäyttelyn yhteydessä jäsentapahtuman.
URL:https://www.kesyrotat.fi/tapahtuma/kesapaivat-1-8-2026-turku/
END:VEVENT
BEGIN:VEVENT
DTSTART;TZID=Europe/Helsinki:20260919T090000
DTEND;TZID=Europe/Helsinki:20260919T170000
DTSTAMP:20260424T152157
CREATED:20260304T172339Z
LAST-MODIFIED:20260421T163116Z
UID:4382-1789808400-1789837200@www.kesyrotat.fi
SUMMARY:Syysnäyttely 19.9.2026
DESCRIPTION:Tarkemmat tiedot ilmoitetaan myöhemmin.
URL:https://www.kesyrotat.fi/tapahtuma/syysnayttely-19-9-2026/
END:VEVENT
BEGIN:VEVENT
DTSTART;TZID=Europe/Helsinki:20261031T090000
DTEND;TZID=Europe/Helsinki:20261031T170000
DTSTAMP:20260424T152157
CREATED:20260304T172455Z
LAST-MODIFIED:20260421T163140Z
UID:4384-1793437200-1793466000@www.kesyrotat.fi
SUMMARY:Halloweennäyttely 31.10.2026
DESCRIPTION:Tarkemmat tiedot ilmoitetaan myöhemmin.
URL:https://www.kesyrotat.fi/tapahtuma/halloweennayttely-31-10-2026/
END:VEVENT
BEGIN:VEVENT
DTSTART;TZID=Europe/Helsinki:20261212T090000
DTEND;TZID=Europe/Helsinki:20261212T170000
DTSTAMP:20260424T152157
CREATED:20260304T172559Z
LAST-MODIFIED:20260421T163204Z
UID:4386-1797066000-1797094800@www.kesyrotat.fi
SUMMARY:Pikkujoulunäyttely 12.12.2026
DESCRIPTION:Tarkemmat tiedot ilmoitetaan myöhemmin.
URL:https://www.kesyrotat.fi/tapahtuma/pikkujoulunayttely-12-12-2026/
LOCATION:Nummen Seuratalo\, Tiedonpolku 7\, Nummi\, Suomi
END:VEVENT
END:VCALENDAR